BEGIN:VCALENDAR
VERSION:2.0
PRODID:-//Sacopulos Law Firm | Terre Haute, IN - ECPv6.15.17//NONSGML v1.0//EN
CALSCALE:GREGORIAN
METHOD:PUBLISH
X-ORIGINAL-URL:https://www.sacopulos.com
X-WR-CALDESC:Events for Sacopulos Law Firm | Terre Haute, IN
REFRESH-INTERVAL;VALUE=DURATION:PT1H
X-Robots-Tag:noindex
X-PUBLISHED-TTL:PT1H
BEGIN:VTIMEZONE
TZID:America/New_York
BEGIN:DAYLIGHT
TZOFFSETFROM:-0500
TZOFFSETTO:-0400
TZNAME:EDT
DTSTART:20250309T070000
END:DAYLIGHT
BEGIN:STANDARD
TZOFFSETFROM:-0400
TZOFFSETTO:-0500
TZNAME:EST
DTSTART:20251102T060000
END:STANDARD
BEGIN:DAYLIGHT
TZOFFSETFROM:-0500
TZOFFSETTO:-0400
TZNAME:EDT
DTSTART:20260308T070000
END:DAYLIGHT
BEGIN:STANDARD
TZOFFSETFROM:-0400
TZOFFSETTO:-0500
TZNAME:EST
DTSTART:20261101T060000
END:STANDARD
BEGIN:DAYLIGHT
TZOFFSETFROM:-0500
TZOFFSETTO:-0400
TZNAME:EDT
DTSTART:20270314T070000
END:DAYLIGHT
BEGIN:STANDARD
TZOFFSETFROM:-0400
TZOFFSETTO:-0500
TZNAME:EST
DTSTART:20271107T060000
END:STANDARD
END:VTIMEZONE
BEGIN:VEVENT
DTSTART;TZID=America/New_York:20260303T140000
DTEND;TZID=America/New_York:20260307T123000
DTSTAMP:20260423T195113
CREATED:20260217T204831Z
LAST-MODIFIED:20260217T204831Z
UID:71900-1772546400-1772886600@www.sacopulos.com
SUMMARY:2026 National HBPA Conference
DESCRIPTION:We invite you to join us in Hot Springs\, Arkansas\, for the 2026 National HBPA Conference at Oaklawn Racing Casino Resort. \nThe meeting\, racing\, and hotel will all be located at Oaklawn for your convenience. We will kick off the conference with our Cocktail Reception on Tuesday\, March 3\, and will conclude with live racing on Friday\, March 6. Our Full Board will meet the morning of Saturday\, March 7. A full agenda and more conference information will be posted on this page soon. Hotel and travel information is posted below. \nThe conference registration deadline is February 18.  \nIf you have any questions\, please contact our conference coordinator\, Audrea Blake\, at ablake@hbpa.org.
URL:https://www.sacopulos.com/event/2026-national-hbpa-conference/
LOCATION:Oaklawn Racing Casino Resort – Hot Springs\, Arkansas\, 2705 Central Ave.\, Hot Springs\, AR\, 71901\, United States
CATEGORIES:Equine
ATTACH;FMTTYPE=image/jpeg:https://www.sacopulos.com/wp-content/uploads/2026/02/030226-oaklawnaction.jpg
END:VEVENT
END:VCALENDAR